BEGIN:VCALENDAR
VERSION:2.0
PRODID:-//Neighbourhood Trust - ECPv6.3.3.1//NONSGML v1.0//EN
CALSCALE:GREGORIAN
METHOD:PUBLISH
X-ORIGINAL-URL:https://nht.org.nz
X-WR-CALDESC:Events for Neighbourhood Trust
REFRESH-INTERVAL;VALUE=DURATION:PT1H
X-Robots-Tag:noindex
X-PUBLISHED-TTL:PT1H
BEGIN:VTIMEZONE
TZID:UTC
BEGIN:STANDARD
TZOFFSETFROM:+0000
TZOFFSETTO:+0000
TZNAME:UTC
DTSTART:20250101T000000
END:STANDARD
END:VTIMEZONE
BEGIN:VEVENT
DTSTART;TZID=UTC:20250401T120000
DTEND;TZID=UTC:20250401T140000
DTSTAMP:20260419T200656
CREATED:20250331T000932Z
LAST-MODIFIED:20250331T000932Z
UID:3430-1743508800-1743516000@nht.org.nz
SUMMARY:Women's Connections
DESCRIPTION:
URL:https://nht.org.nz/event/womens-connections-6/
LOCATION:Whanau Center\, 49 Nancy Avenue\, Christchurch\, New Zealand
CATEGORIES:Women's Connections
ATTACH;FMTTYPE=image/jpeg:https://nht.org.nz/wp-content/uploads/2023/09/Womens-Group-Image-File-Tile-scaled.jpg
ORGANIZER;CN="Jan Bovey":MAILTO:cdw@nht.org.nz
END:VEVENT
BEGIN:VEVENT
DTSTART;TZID=UTC:20250404T130000
DTEND;TZID=UTC:20250404T143000
DTSTAMP:20260419T200656
CREATED:20250331T002050Z
LAST-MODIFIED:20250331T002050Z
UID:3441-1743771600-1743777000@nht.org.nz
SUMMARY:Strength & Balance
DESCRIPTION:
URL:https://nht.org.nz/event/strength-balance-24/
LOCATION:St Albans Baptist Church\, 64 McFaddens Road\, St Albans\, Christchurch\, Canterbury\, 8052\, New Zealand
CATEGORIES:Golden
ATTACH;FMTTYPE=image/jpeg:https://nht.org.nz/wp-content/uploads/2022/08/Golden-Events-Strength-Bal-Image-File-Tile-scaled.jpg
ORGANIZER;CN="Golden Connections Event":MAILTO:golden@nht.org.nz
END:VEVENT
BEGIN:VEVENT
DTSTART;TZID=UTC:20250407T133000
DTEND;TZID=UTC:20250407T150000
DTSTAMP:20260419T200656
CREATED:20250224T215630Z
LAST-MODIFIED:20250224T215630Z
UID:3404-1744032600-1744038000@nht.org.nz
SUMMARY:Tuning Into Kids
DESCRIPTION:
URL:https://nht.org.nz/event/tuning-into-kids-5/
LOCATION:Mairehau Primary School\, 43 Mahars Rd\, Christchurch\, New Zealand
CATEGORIES:Tuning Into Kids
ATTACH;FMTTYPE=image/png:https://nht.org.nz/wp-content/uploads/2025/02/TIK-Image-File.png
ORGANIZER;CN="Jan Bovey":MAILTO:cdw@nht.org.nz
END:VEVENT
BEGIN:VEVENT
DTSTART;TZID=UTC:20250408T120000
DTEND;TZID=UTC:20250408T140000
DTSTAMP:20260419T200656
CREATED:20250331T001152Z
LAST-MODIFIED:20250331T001152Z
UID:3432-1744113600-1744120800@nht.org.nz
SUMMARY:Women's Connections
DESCRIPTION:
URL:https://nht.org.nz/event/womens-connections-7/
LOCATION:Whanau Center\, 49 Nancy Avenue\, Christchurch\, New Zealand
CATEGORIES:Women's Connections
ATTACH;FMTTYPE=image/jpeg:https://nht.org.nz/wp-content/uploads/2023/09/Womens-Group-Image-File-Tile-scaled.jpg
ORGANIZER;CN="Jan Bovey":MAILTO:cdw@nht.org.nz
END:VEVENT
BEGIN:VEVENT
DTSTART;TZID=UTC:20250411T130000
DTEND;TZID=UTC:20250411T143000
DTSTAMP:20260419T200656
CREATED:20250331T002239Z
LAST-MODIFIED:20250331T002239Z
UID:3443-1744376400-1744381800@nht.org.nz
SUMMARY:Strength & Balance
DESCRIPTION:
URL:https://nht.org.nz/event/strength-balance-25/
LOCATION:St Albans Baptist Church\, 64 McFaddens Road\, St Albans\, Christchurch\, Canterbury\, 8052\, New Zealand
CATEGORIES:Golden
ATTACH;FMTTYPE=image/jpeg:https://nht.org.nz/wp-content/uploads/2022/08/Golden-Events-Strength-Bal-Image-File-Tile-scaled.jpg
ORGANIZER;CN="Golden Connections Event":MAILTO:golden@nht.org.nz
END:VEVENT
BEGIN:VEVENT
DTSTART;TZID=UTC:20250414T120000
DTEND;TZID=UTC:20250414T143000
DTSTAMP:20260419T200656
CREATED:20250224T212707Z
LAST-MODIFIED:20250224T212707Z
UID:3362-1744632000-1744641000@nht.org.nz
SUMMARY:Golden: Board Games
DESCRIPTION:
URL:https://nht.org.nz/event/golden-board-games/
LOCATION:St Albans Baptist Church\, 64 McFaddens Road\, St Albans\, Christchurch\, Canterbury\, 8052\, New Zealand
CATEGORIES:Golden
ATTACH;FMTTYPE=image/jpeg:https://nht.org.nz/wp-content/uploads/2022/08/Golden-Events-Image-File-Tile-bottom-text-scaled.jpg
ORGANIZER;CN="Golden Connections Event":MAILTO:golden@nht.org.nz
END:VEVENT
BEGIN:VEVENT
DTSTART;TZID=UTC:20250414T133000
DTEND;TZID=UTC:20250414T150000
DTSTAMP:20260419T200656
CREATED:20250224T215815Z
LAST-MODIFIED:20250224T215815Z
UID:3406-1744637400-1744642800@nht.org.nz
SUMMARY:Tuning Into Kids
DESCRIPTION:
URL:https://nht.org.nz/event/tuning-into-kids-6/
LOCATION:Mairehau Primary School\, 43 Mahars Rd\, Christchurch\, New Zealand
CATEGORIES:Tuning Into Kids
ATTACH;FMTTYPE=image/png:https://nht.org.nz/wp-content/uploads/2025/02/TIK-Image-File.png
ORGANIZER;CN="Jan Bovey":MAILTO:cdw@nht.org.nz
END:VEVENT
BEGIN:VEVENT
DTSTART;TZID=UTC:20250415T120000
DTEND;TZID=UTC:20250415T140000
DTSTAMP:20260419T200656
CREATED:20250331T001323Z
LAST-MODIFIED:20250331T001323Z
UID:3434-1744718400-1744725600@nht.org.nz
SUMMARY:Women's Connections
DESCRIPTION:
URL:https://nht.org.nz/event/womens-connections-8/
LOCATION:Whanau Center\, 49 Nancy Avenue\, Christchurch\, New Zealand
CATEGORIES:Women's Connections
ATTACH;FMTTYPE=image/jpeg:https://nht.org.nz/wp-content/uploads/2023/09/Womens-Group-Image-File-Tile-scaled.jpg
ORGANIZER;CN="Jan Bovey":MAILTO:cdw@nht.org.nz
END:VEVENT
BEGIN:VEVENT
DTSTART;TZID=UTC:20250422T120000
DTEND;TZID=UTC:20250422T140000
DTSTAMP:20260419T200656
CREATED:20250331T001502Z
LAST-MODIFIED:20250331T001502Z
UID:3436-1745323200-1745330400@nht.org.nz
SUMMARY:Women's Connections
DESCRIPTION:
URL:https://nht.org.nz/event/womens-connections-9/
LOCATION:Whanau Center\, 49 Nancy Avenue\, Christchurch\, New Zealand
CATEGORIES:Women's Connections
ATTACH;FMTTYPE=image/jpeg:https://nht.org.nz/wp-content/uploads/2023/09/Womens-Group-Image-File-Tile-scaled.jpg
ORGANIZER;CN="Jan Bovey":MAILTO:cdw@nht.org.nz
END:VEVENT
BEGIN:VEVENT
DTSTART;TZID=UTC:20250428T190000
DTEND;TZID=UTC:20250428T203000
DTSTAMP:20260419T200656
CREATED:20250331T004557Z
LAST-MODIFIED:20250331T004557Z
UID:3448-1745866800-1745872200@nht.org.nz
SUMMARY:Tuning Into Kids
DESCRIPTION:
URL:https://nht.org.nz/event/tuning-into-kids-7/
LOCATION:St Albans Baptist Church\, 64 McFaddens Road\, St Albans\, Christchurch\, Canterbury\, 8052\, New Zealand
CATEGORIES:Tuning Into Kids
ATTACH;FMTTYPE=image/png:https://nht.org.nz/wp-content/uploads/2025/02/TIK-Image-File.png
ORGANIZER;CN="Jan Bovey":MAILTO:cdw@nht.org.nz
END:VEVENT
BEGIN:VEVENT
DTSTART;TZID=UTC:20250429T120000
DTEND;TZID=UTC:20250429T140000
DTSTAMP:20260419T200656
CREATED:20250331T001715Z
LAST-MODIFIED:20250331T001715Z
UID:3438-1745928000-1745935200@nht.org.nz
SUMMARY:Women's Connections
DESCRIPTION:
URL:https://nht.org.nz/event/womens-connections-10/
LOCATION:Whanau Center\, 49 Nancy Avenue\, Christchurch\, New Zealand
CATEGORIES:Women's Connections
ATTACH;FMTTYPE=image/jpeg:https://nht.org.nz/wp-content/uploads/2023/09/Womens-Group-Image-File-Tile-scaled.jpg
ORGANIZER;CN="Jan Bovey":MAILTO:cdw@nht.org.nz
END:VEVENT
END:VCALENDAR