BEGIN:VCALENDAR
VERSION:2.0
PRODID:-//Neighbourhood Trust - ECPv6.3.3.1//NONSGML v1.0//EN
CALSCALE:GREGORIAN
METHOD:PUBLISH
X-WR-CALNAME:Neighbourhood Trust
X-ORIGINAL-URL:https://nht.org.nz
X-WR-CALDESC:Events for Neighbourhood Trust
REFRESH-INTERVAL;VALUE=DURATION:PT1H
X-Robots-Tag:noindex
X-PUBLISHED-TTL:PT1H
BEGIN:VTIMEZONE
TZID:UTC
BEGIN:STANDARD
TZOFFSETFROM:+0000
TZOFFSETTO:+0000
TZNAME:UTC
DTSTART:20250101T000000
END:STANDARD
END:VTIMEZONE
BEGIN:VEVENT
DTSTART;TZID=UTC:20250303T090000
DTEND;TZID=UTC:20250303T120000
DTSTAMP:20260419T213814
CREATED:20250124T030336Z
LAST-MODIFIED:20250124T030336Z
UID:3310-1740992400-1741003200@nht.org.nz
SUMMARY:Golden Trip\, Silverstream Alpaca Stud
DESCRIPTION:
URL:https://nht.org.nz/event/golden-trip-silverstream-alpaca-stud/
LOCATION:St Albans Baptist Church\, 64 McFaddens Road\, St Albans\, Christchurch\, Canterbury\, 8052\, New Zealand
CATEGORIES:Golden
ATTACH;FMTTYPE=image/jpeg:https://nht.org.nz/wp-content/uploads/2022/08/Golden-Events-Image-File-Tile-bottom-text-scaled.jpg
ORGANIZER;CN="Golden Connections Event":MAILTO:golden@nht.org.nz
END:VEVENT
BEGIN:VEVENT
DTSTART;TZID=UTC:20250304T120000
DTEND;TZID=UTC:20250304T140000
DTSTAMP:20260419T213814
CREATED:20250224T211559Z
LAST-MODIFIED:20250224T211559Z
UID:3382-1741089600-1741096800@nht.org.nz
SUMMARY:Women's Connections
DESCRIPTION:
URL:https://nht.org.nz/event/womens-connections-2/
LOCATION:Whanau Center\, 49 Nancy Avenue\, Christchurch\, New Zealand
CATEGORIES:Women's Connections
ATTACH;FMTTYPE=image/jpeg:https://nht.org.nz/wp-content/uploads/2023/09/Womens-Group-Image-File-Tile-scaled.jpg
ORGANIZER;CN="Jan Bovey":MAILTO:cdw@nht.org.nz
END:VEVENT
BEGIN:VEVENT
DTSTART;TZID=UTC:20250307T130000
DTEND;TZID=UTC:20250307T143000
DTSTAMP:20260419T213814
CREATED:20250224T210021Z
LAST-MODIFIED:20250224T210021Z
UID:3370-1741352400-1741357800@nht.org.nz
SUMMARY:Strength & Balance
DESCRIPTION:
URL:https://nht.org.nz/event/strength-balance-7/
LOCATION:St Albans Baptist Church\, 64 McFaddens Road\, St Albans\, Christchurch\, Canterbury\, 8052\, New Zealand
CATEGORIES:Golden
ATTACH;FMTTYPE=image/jpeg:https://nht.org.nz/wp-content/uploads/2022/08/Golden-Events-Strength-Bal-Image-File-Tile-scaled.jpg
ORGANIZER;CN="Golden Connections Event":MAILTO:golden@nht.org.nz
END:VEVENT
BEGIN:VEVENT
DTSTART;TZID=UTC:20250310T133000
DTEND;TZID=UTC:20250310T150000
DTSTAMP:20260419T213814
CREATED:20250224T214631Z
LAST-MODIFIED:20250224T214631Z
UID:3393-1741613400-1741618800@nht.org.nz
SUMMARY:Tuning Into Kids
DESCRIPTION:
URL:https://nht.org.nz/event/tuning-into-kids/
LOCATION:Mairehau Primary School\, 43 Mahars Rd\, Christchurch\, New Zealand
CATEGORIES:Tuning Into Kids
ATTACH;FMTTYPE=image/png:https://nht.org.nz/wp-content/uploads/2025/02/TIK-Image-File.png
ORGANIZER;CN="Jan Bovey":MAILTO:cdw@nht.org.nz
END:VEVENT
BEGIN:VEVENT
DTSTART;TZID=UTC:20250311T120000
DTEND;TZID=UTC:20250311T140000
DTSTAMP:20260419T213814
CREATED:20250224T212707Z
LAST-MODIFIED:20250224T212707Z
UID:3384-1741694400-1741701600@nht.org.nz
SUMMARY:Women's Connections
DESCRIPTION:
URL:https://nht.org.nz/event/womens-connections-5/
LOCATION:Whanau Center\, 49 Nancy Avenue\, Christchurch\, New Zealand
CATEGORIES:Women's Connections
ATTACH;FMTTYPE=image/jpeg:https://nht.org.nz/wp-content/uploads/2023/09/Womens-Group-Image-File-Tile-scaled.jpg
ORGANIZER;CN="Jan Bovey":MAILTO:cdw@nht.org.nz
END:VEVENT
BEGIN:VEVENT
DTSTART;TZID=UTC:20250317T120000
DTEND;TZID=UTC:20250317T143000
DTSTAMP:20260419T213814
CREATED:20250224T210254Z
LAST-MODIFIED:20250224T210254Z
UID:3358-1742212800-1742221800@nht.org.nz
SUMMARY:Golden Meal
DESCRIPTION:
URL:https://nht.org.nz/event/golden-meal/
LOCATION:St Albans Baptist Church\, 64 McFaddens Road\, St Albans\, Christchurch\, Canterbury\, 8052\, New Zealand
CATEGORIES:Golden
ATTACH;FMTTYPE=image/jpeg:https://nht.org.nz/wp-content/uploads/2022/08/Golden-Events-Image-File-Tile-bottom-text-scaled.jpg
ORGANIZER;CN="Golden Connections Event":MAILTO:golden@nht.org.nz
END:VEVENT
BEGIN:VEVENT
DTSTART;TZID=UTC:20250317T133000
DTEND;TZID=UTC:20250317T150000
DTSTAMP:20260419T213814
CREATED:20250224T215043Z
LAST-MODIFIED:20250224T215043Z
UID:3398-1742218200-1742223600@nht.org.nz
SUMMARY:Tuning Into Kids
DESCRIPTION:
URL:https://nht.org.nz/event/tuning-into-kids-3/
LOCATION:Mairehau Primary School\, 43 Mahars Rd\, Christchurch\, New Zealand
CATEGORIES:Tuning Into Kids
ATTACH;FMTTYPE=image/png:https://nht.org.nz/wp-content/uploads/2025/02/TIK-Image-File.png
ORGANIZER;CN="Jan Bovey":MAILTO:cdw@nht.org.nz
END:VEVENT
BEGIN:VEVENT
DTSTART;TZID=UTC:20250318T120000
DTEND;TZID=UTC:20250318T140000
DTSTAMP:20260419T213814
CREATED:20250224T212707Z
LAST-MODIFIED:20250224T212707Z
UID:3386-1742299200-1742306400@nht.org.nz
SUMMARY:Women's Connections
DESCRIPTION:
URL:https://nht.org.nz/event/womens-connections-4/
LOCATION:Whanau Center\, 49 Nancy Avenue\, Christchurch\, New Zealand
CATEGORIES:Women's Connections
ATTACH;FMTTYPE=image/jpeg:https://nht.org.nz/wp-content/uploads/2023/09/Womens-Group-Image-File-Tile-scaled.jpg
ORGANIZER;CN="Jan Bovey":MAILTO:cdw@nht.org.nz
END:VEVENT
BEGIN:VEVENT
DTSTART;TZID=UTC:20250321T130000
DTEND;TZID=UTC:20250321T143000
DTSTAMP:20260419T213814
CREATED:20250224T210925Z
LAST-MODIFIED:20250224T210925Z
UID:3378-1742562000-1742567400@nht.org.nz
SUMMARY:Strength & Balance
DESCRIPTION:
URL:https://nht.org.nz/event/strength-balance-22/
LOCATION:St Albans Baptist Church\, 64 McFaddens Road\, St Albans\, Christchurch\, Canterbury\, 8052\, New Zealand
CATEGORIES:Golden
ATTACH;FMTTYPE=image/jpeg:https://nht.org.nz/wp-content/uploads/2022/08/Golden-Events-Strength-Bal-Image-File-Tile-scaled.jpg
ORGANIZER;CN="Golden Connections Event":MAILTO:golden@nht.org.nz
END:VEVENT
BEGIN:VEVENT
DTSTART;TZID=UTC:20250324T133000
DTEND;TZID=UTC:20250324T150000
DTSTAMP:20260419T213814
CREATED:20250224T215011Z
LAST-MODIFIED:20250224T215011Z
UID:3400-1742823000-1742828400@nht.org.nz
SUMMARY:Tuning Into Kids
DESCRIPTION:
URL:https://nht.org.nz/event/tuning-into-kids-2/
LOCATION:Mairehau Primary School\, 43 Mahars Rd\, Christchurch\, New Zealand
CATEGORIES:Tuning Into Kids
ATTACH;FMTTYPE=image/png:https://nht.org.nz/wp-content/uploads/2025/02/TIK-Image-File.png
ORGANIZER;CN="Jan Bovey":MAILTO:cdw@nht.org.nz
END:VEVENT
BEGIN:VEVENT
DTSTART;TZID=UTC:20250325T120000
DTEND;TZID=UTC:20250325T140000
DTSTAMP:20260419T213814
CREATED:20250224T212707Z
LAST-MODIFIED:20250224T212707Z
UID:3388-1742904000-1742911200@nht.org.nz
SUMMARY:Women's Connections
DESCRIPTION:
URL:https://nht.org.nz/event/womens-connections-3/
LOCATION:Whanau Center\, 49 Nancy Avenue\, Christchurch\, New Zealand
CATEGORIES:Women's Connections
ATTACH;FMTTYPE=image/jpeg:https://nht.org.nz/wp-content/uploads/2023/09/Womens-Group-Image-File-Tile-scaled.jpg
ORGANIZER;CN="Jan Bovey":MAILTO:cdw@nht.org.nz
END:VEVENT
BEGIN:VEVENT
DTSTART;TZID=UTC:20250327T190000
DTEND;TZID=UTC:20250327T203000
DTSTAMP:20260419T213814
CREATED:20250218T214321Z
LAST-MODIFIED:20250218T214321Z
UID:3350-1743102000-1743107400@nht.org.nz
SUMMARY:Seen: The Film
DESCRIPTION:
URL:https://nht.org.nz/event/seen-the-film/
LOCATION:St Albans Baptist Church\, 64 McFaddens Road\, St Albans\, Christchurch\, Canterbury\, 8052\, New Zealand
CATEGORIES:Community Events
END:VEVENT
BEGIN:VEVENT
DTSTART;TZID=UTC:20250328T130000
DTEND;TZID=UTC:20250328T143000
DTSTAMP:20260419T213814
CREATED:20250224T211100Z
LAST-MODIFIED:20250224T211100Z
UID:3380-1743166800-1743172200@nht.org.nz
SUMMARY:Strength & Balance
DESCRIPTION:
URL:https://nht.org.nz/event/strength-balance-23/
LOCATION:St Albans Baptist Church\, 64 McFaddens Road\, St Albans\, Christchurch\, Canterbury\, 8052\, New Zealand
CATEGORIES:Golden
ATTACH;FMTTYPE=image/jpeg:https://nht.org.nz/wp-content/uploads/2022/08/Golden-Events-Strength-Bal-Image-File-Tile-scaled.jpg
ORGANIZER;CN="Golden Connections Event":MAILTO:golden@nht.org.nz
END:VEVENT
BEGIN:VEVENT
DTSTART;TZID=UTC:20250331T130000
DTEND;TZID=UTC:20250331T143000
DTSTAMP:20260419T213814
CREATED:20250224T210350Z
LAST-MODIFIED:20250224T210350Z
UID:3360-1743426000-1743431400@nht.org.nz
SUMMARY:Golden: Guest Speaker
DESCRIPTION:
URL:https://nht.org.nz/event/golden-guest-speaker/
LOCATION:St Albans Baptist Church\, 64 McFaddens Road\, St Albans\, Christchurch\, Canterbury\, 8052\, New Zealand
CATEGORIES:Golden
ATTACH;FMTTYPE=image/jpeg:https://nht.org.nz/wp-content/uploads/2022/08/Golden-Events-Image-File-Tile-bottom-text-scaled.jpg
ORGANIZER;CN="Golden Connections Event":MAILTO:golden@nht.org.nz
END:VEVENT
BEGIN:VEVENT
DTSTART;TZID=UTC:20250331T133000
DTEND;TZID=UTC:20250331T150000
DTSTAMP:20260419T213814
CREATED:20250224T215227Z
LAST-MODIFIED:20250224T215227Z
UID:3402-1743427800-1743433200@nht.org.nz
SUMMARY:Tuning Into Kids
DESCRIPTION:
URL:https://nht.org.nz/event/tuning-into-kids-4/
LOCATION:Mairehau Primary School\, 43 Mahars Rd\, Christchurch\, New Zealand
CATEGORIES:Tuning Into Kids
ATTACH;FMTTYPE=image/png:https://nht.org.nz/wp-content/uploads/2025/02/TIK-Image-File.png
ORGANIZER;CN="Jan Bovey":MAILTO:cdw@nht.org.nz
END:VEVENT
END:VCALENDAR