BEGIN:VCALENDAR
VERSION:2.0
PRODID:-//Neighbourhood Trust - ECPv6.3.3.1//NONSGML v1.0//EN
CALSCALE:GREGORIAN
METHOD:PUBLISH
X-WR-CALNAME:Neighbourhood Trust
X-ORIGINAL-URL:https://nht.org.nz
X-WR-CALDESC:Events for Neighbourhood Trust
REFRESH-INTERVAL;VALUE=DURATION:PT1H
X-Robots-Tag:noindex
X-PUBLISHED-TTL:PT1H
BEGIN:VTIMEZONE
TZID:UTC
BEGIN:STANDARD
TZOFFSETFROM:+0000
TZOFFSETTO:+0000
TZNAME:UTC
DTSTART:20240101T000000
END:STANDARD
END:VTIMEZONE
BEGIN:VEVENT
DTSTART;TZID=UTC:20240701T130000
DTEND;TZID=UTC:20240701T140000
DTSTAMP:20260420T095726
CREATED:20240526T223544Z
LAST-MODIFIED:20240526T223544Z
UID:2931-1719838800-1719842400@nht.org.nz
SUMMARY:Pot Luck Mid-Winter Christmas
DESCRIPTION:
URL:https://nht.org.nz/event/pot-luck-mid-winter-christmas-2/
LOCATION:St Albans Baptist Church\, 64 McFaddens Road\, St Albans\, Christchurch\, Canterbury\, 8052\, New Zealand
CATEGORIES:Golden
ATTACH;FMTTYPE=image/jpeg:https://nht.org.nz/wp-content/uploads/2022/08/Golden-Events-Image-File-Tile-bottom-text-scaled.jpg
ORGANIZER;CN="Golden Connections Event":MAILTO:golden@nht.org.nz
END:VEVENT
BEGIN:VEVENT
DTSTART;TZID=UTC:20240702T120000
DTEND;TZID=UTC:20240702T143000
DTSTAMP:20260420T095726
CREATED:20240619T222413Z
LAST-MODIFIED:20240619T222413Z
UID:3012-1719921600-1719930600@nht.org.nz
SUMMARY:Women's Connections
DESCRIPTION:
URL:https://nht.org.nz/event/womens-connections-37/
LOCATION:Whanau Center\, 49 Nancy Avenue\, Christchurch\, New Zealand
CATEGORIES:Women's Connections
ATTACH;FMTTYPE=image/jpeg:https://nht.org.nz/wp-content/uploads/2023/09/Womens-Group-Image-File-Tile-scaled.jpg
ORGANIZER;CN="Jan Bovey":MAILTO:cdw@nht.org.nz
END:VEVENT
BEGIN:VEVENT
DTSTART;TZID=UTC:20240705T130000
DTEND;TZID=UTC:20240705T143000
DTSTAMP:20260420T095726
CREATED:20240619T222512Z
LAST-MODIFIED:20240619T222512Z
UID:3022-1720184400-1720189800@nht.org.nz
SUMMARY:Strength & Balance
DESCRIPTION:
URL:https://nht.org.nz/event/strength-balance-71/
LOCATION:St Albans Baptist Church\, 64 McFaddens Road\, St Albans\, Christchurch\, Canterbury\, 8052\, New Zealand
CATEGORIES:Golden
ATTACH;FMTTYPE=image/jpeg:https://nht.org.nz/wp-content/uploads/2022/08/Golden-Events-Strength-Bal-Image-File-Tile-scaled.jpg
ORGANIZER;CN="Golden Connections Event":MAILTO:golden@nht.org.nz
END:VEVENT
BEGIN:VEVENT
DTSTART;TZID=UTC:20240709T120000
DTEND;TZID=UTC:20240709T143000
DTSTAMP:20260420T095726
CREATED:20240619T222618Z
LAST-MODIFIED:20240619T222618Z
UID:3014-1720526400-1720535400@nht.org.nz
SUMMARY:Women's Connections
DESCRIPTION:
URL:https://nht.org.nz/event/womens-connections-38/
LOCATION:Whanau Center\, 49 Nancy Avenue\, Christchurch\, New Zealand
CATEGORIES:Women's Connections
ATTACH;FMTTYPE=image/jpeg:https://nht.org.nz/wp-content/uploads/2023/09/Womens-Group-Image-File-Tile-scaled.jpg
ORGANIZER;CN="Jan Bovey":MAILTO:cdw@nht.org.nz
END:VEVENT
BEGIN:VEVENT
DTSTART;TZID=UTC:20240712T130000
DTEND;TZID=UTC:20240712T143000
DTSTAMP:20260420T095726
CREATED:20240619T222756Z
LAST-MODIFIED:20240619T222756Z
UID:3024-1720789200-1720794600@nht.org.nz
SUMMARY:Strength & Balance
DESCRIPTION:
URL:https://nht.org.nz/event/strength-balance-72/
LOCATION:St Albans Baptist Church\, 64 McFaddens Road\, St Albans\, Christchurch\, Canterbury\, 8052\, New Zealand
CATEGORIES:Golden
ATTACH;FMTTYPE=image/jpeg:https://nht.org.nz/wp-content/uploads/2022/08/Golden-Events-Strength-Bal-Image-File-Tile-scaled.jpg
ORGANIZER;CN="Golden Connections Event":MAILTO:golden@nht.org.nz
END:VEVENT
BEGIN:VEVENT
DTSTART;TZID=UTC:20240715T130000
DTEND;TZID=UTC:20240715T140000
DTSTAMP:20260420T095726
CREATED:20240526T223724Z
LAST-MODIFIED:20240526T223724Z
UID:2933-1721048400-1721052000@nht.org.nz
SUMMARY:Golden Quiz
DESCRIPTION:
URL:https://nht.org.nz/event/golden-quiz-2/
LOCATION:St Albans Baptist Church\, 64 McFaddens Road\, St Albans\, Christchurch\, Canterbury\, 8052\, New Zealand
CATEGORIES:Golden
ATTACH;FMTTYPE=image/jpeg:https://nht.org.nz/wp-content/uploads/2022/08/Golden-Events-Image-File-Tile-bottom-text-scaled.jpg
ORGANIZER;CN="Golden Connections Event":MAILTO:golden@nht.org.nz
END:VEVENT
BEGIN:VEVENT
DTSTART;TZID=UTC:20240716T120000
DTEND;TZID=UTC:20240716T143000
DTSTAMP:20260420T095726
CREATED:20240619T222906Z
LAST-MODIFIED:20240619T222906Z
UID:3016-1721131200-1721140200@nht.org.nz
SUMMARY:Women's Connections
DESCRIPTION:
URL:https://nht.org.nz/event/womens-connections-39/
LOCATION:Whanau Center\, 49 Nancy Avenue\, Christchurch\, New Zealand
CATEGORIES:Women's Connections
ATTACH;FMTTYPE=image/jpeg:https://nht.org.nz/wp-content/uploads/2023/09/Womens-Group-Image-File-Tile-scaled.jpg
ORGANIZER;CN="Jan Bovey":MAILTO:cdw@nht.org.nz
END:VEVENT
BEGIN:VEVENT
DTSTART;TZID=UTC:20240719T130000
DTEND;TZID=UTC:20240719T143000
DTSTAMP:20260420T095726
CREATED:20240619T223012Z
LAST-MODIFIED:20240619T223012Z
UID:3026-1721394000-1721399400@nht.org.nz
SUMMARY:Strength & Balance
DESCRIPTION:
URL:https://nht.org.nz/event/strength-balance-73/
LOCATION:St Albans Baptist Church\, 64 McFaddens Road\, St Albans\, Christchurch\, Canterbury\, 8052\, New Zealand
CATEGORIES:Golden
ATTACH;FMTTYPE=image/jpeg:https://nht.org.nz/wp-content/uploads/2022/08/Golden-Events-Strength-Bal-Image-File-Tile-scaled.jpg
ORGANIZER;CN="Golden Connections Event":MAILTO:golden@nht.org.nz
END:VEVENT
BEGIN:VEVENT
DTSTART;TZID=UTC:20240723T120000
DTEND;TZID=UTC:20240723T143000
DTSTAMP:20260420T095726
CREATED:20240619T223131Z
LAST-MODIFIED:20240619T223131Z
UID:3018-1721736000-1721745000@nht.org.nz
SUMMARY:Women's Connections
DESCRIPTION:
URL:https://nht.org.nz/event/womens-connections-40/
LOCATION:Whanau Center\, 49 Nancy Avenue\, Christchurch\, New Zealand
CATEGORIES:Women's Connections
ATTACH;FMTTYPE=image/jpeg:https://nht.org.nz/wp-content/uploads/2023/09/Womens-Group-Image-File-Tile-scaled.jpg
ORGANIZER;CN="Jan Bovey":MAILTO:cdw@nht.org.nz
END:VEVENT
BEGIN:VEVENT
DTSTART;TZID=UTC:20240726T130000
DTEND;TZID=UTC:20240726T143000
DTSTAMP:20260420T095726
CREATED:20240619T223245Z
LAST-MODIFIED:20240619T223245Z
UID:3028-1721998800-1722004200@nht.org.nz
SUMMARY:Strength & Balance
DESCRIPTION:
URL:https://nht.org.nz/event/strength-balance-74/
LOCATION:St Albans Baptist Church\, 64 McFaddens Road\, St Albans\, Christchurch\, Canterbury\, 8052\, New Zealand
CATEGORIES:Golden
ATTACH;FMTTYPE=image/jpeg:https://nht.org.nz/wp-content/uploads/2022/08/Golden-Events-Strength-Bal-Image-File-Tile-scaled.jpg
ORGANIZER;CN="Golden Connections Event":MAILTO:golden@nht.org.nz
END:VEVENT
BEGIN:VEVENT
DTSTART;TZID=UTC:20240729T130000
DTEND;TZID=UTC:20240729T140000
DTSTAMP:20260420T095726
CREATED:20240526T223833Z
LAST-MODIFIED:20240526T223833Z
UID:2935-1722258000-1722261600@nht.org.nz
SUMMARY:Games Afternoon
DESCRIPTION:
URL:https://nht.org.nz/event/games-afternoon/
LOCATION:St Albans Baptist Church\, 64 McFaddens Road\, St Albans\, Christchurch\, Canterbury\, 8052\, New Zealand
CATEGORIES:Golden
ATTACH;FMTTYPE=image/jpeg:https://nht.org.nz/wp-content/uploads/2022/08/Golden-Events-Image-File-Tile-bottom-text-scaled.jpg
ORGANIZER;CN="Golden Connections Event":MAILTO:golden@nht.org.nz
END:VEVENT
BEGIN:VEVENT
DTSTART;TZID=UTC:20240730T120000
DTEND;TZID=UTC:20240730T143000
DTSTAMP:20260420T095726
CREATED:20240619T223332Z
LAST-MODIFIED:20240619T223332Z
UID:3020-1722340800-1722349800@nht.org.nz
SUMMARY:Women's Connections
DESCRIPTION:
URL:https://nht.org.nz/event/womens-connections-41/
LOCATION:Whanau Center\, 49 Nancy Avenue\, Christchurch\, New Zealand
CATEGORIES:Women's Connections
ATTACH;FMTTYPE=image/jpeg:https://nht.org.nz/wp-content/uploads/2023/09/Womens-Group-Image-File-Tile-scaled.jpg
ORGANIZER;CN="Jan Bovey":MAILTO:cdw@nht.org.nz
END:VEVENT
END:VCALENDAR