BEGIN:VCALENDAR
VERSION:2.0
PRODID:-//Neighbourhood Trust - ECPv6.3.3.1//NONSGML v1.0//EN
CALSCALE:GREGORIAN
METHOD:PUBLISH
X-WR-CALNAME:Neighbourhood Trust
X-ORIGINAL-URL:https://nht.org.nz
X-WR-CALDESC:Events for Neighbourhood Trust
REFRESH-INTERVAL;VALUE=DURATION:PT1H
X-Robots-Tag:noindex
X-PUBLISHED-TTL:PT1H
BEGIN:VTIMEZONE
TZID:UTC
BEGIN:STANDARD
TZOFFSETFROM:+0000
TZOFFSETTO:+0000
TZNAME:UTC
DTSTART:20250101T000000
END:STANDARD
END:VTIMEZONE
BEGIN:VEVENT
DTSTART;TZID=UTC:20251104T120000
DTEND;TZID=UTC:20251104T140000
DTSTAMP:20260421T194449
CREATED:20251102T220942Z
LAST-MODIFIED:20251102T220942Z
UID:3821-1762257600-1762264800@nht.org.nz
SUMMARY:Women's Connections
DESCRIPTION:
URL:https://nht.org.nz/event/womens-connections-89/
LOCATION:St Albans Baptist Church\, 64 McFaddens Road\, St Albans\, Christchurch\, Canterbury\, 8052\, New Zealand
CATEGORIES:Women's Connections
ATTACH;FMTTYPE=image/jpeg:https://nht.org.nz/wp-content/uploads/2023/09/Womens-Group-Image-File-Tile-scaled.jpg
ORGANIZER;CN="Jan Bovey":MAILTO:cdw@nht.org.nz
END:VEVENT
BEGIN:VEVENT
DTSTART;TZID=UTC:20251111T120000
DTEND;TZID=UTC:20251111T140000
DTSTAMP:20260421T194449
CREATED:20251102T221128Z
LAST-MODIFIED:20251102T221128Z
UID:3823-1762862400-1762869600@nht.org.nz
SUMMARY:Women's Connections
DESCRIPTION:
URL:https://nht.org.nz/event/womens-connections-90/
LOCATION:St Albans Baptist Church\, 64 McFaddens Road\, St Albans\, Christchurch\, Canterbury\, 8052\, New Zealand
CATEGORIES:Women's Connections
ATTACH;FMTTYPE=image/jpeg:https://nht.org.nz/wp-content/uploads/2023/09/Womens-Group-Image-File-Tile-scaled.jpg
ORGANIZER;CN="Jan Bovey":MAILTO:cdw@nht.org.nz
END:VEVENT
BEGIN:VEVENT
DTSTART;TZID=UTC:20251118T120000
DTEND;TZID=UTC:20251118T140000
DTSTAMP:20260421T194449
CREATED:20251102T221258Z
LAST-MODIFIED:20251102T221258Z
UID:3825-1763467200-1763474400@nht.org.nz
SUMMARY:Women's Connections
DESCRIPTION:
URL:https://nht.org.nz/event/womens-connections-91/
LOCATION:St Albans Baptist Church\, 64 McFaddens Road\, St Albans\, Christchurch\, Canterbury\, 8052\, New Zealand
CATEGORIES:Women's Connections
ATTACH;FMTTYPE=image/jpeg:https://nht.org.nz/wp-content/uploads/2023/09/Womens-Group-Image-File-Tile-scaled.jpg
ORGANIZER;CN="Jan Bovey":MAILTO:cdw@nht.org.nz
END:VEVENT
BEGIN:VEVENT
DTSTART;TZID=UTC:20251125T120000
DTEND;TZID=UTC:20251125T140000
DTSTAMP:20260421T194449
CREATED:20251102T221413Z
LAST-MODIFIED:20251102T221413Z
UID:3827-1764072000-1764079200@nht.org.nz
SUMMARY:Women's Connections
DESCRIPTION:
URL:https://nht.org.nz/event/womens-connections-92/
LOCATION:St Albans Baptist Church\, 64 McFaddens Road\, St Albans\, Christchurch\, Canterbury\, 8052\, New Zealand
CATEGORIES:Women's Connections
ATTACH;FMTTYPE=image/jpeg:https://nht.org.nz/wp-content/uploads/2023/09/Womens-Group-Image-File-Tile-scaled.jpg
ORGANIZER;CN="Jan Bovey":MAILTO:cdw@nht.org.nz
END:VEVENT
BEGIN:VEVENT
DTSTART;TZID=UTC:20251202T120000
DTEND;TZID=UTC:20251202T140000
DTSTAMP:20260421T194449
CREATED:20251102T221513Z
LAST-MODIFIED:20251102T221513Z
UID:3829-1764676800-1764684000@nht.org.nz
SUMMARY:Women's Connections
DESCRIPTION:
URL:https://nht.org.nz/event/womens-connections-93/
LOCATION:St Albans Baptist Church\, 64 McFaddens Road\, St Albans\, Christchurch\, Canterbury\, 8052\, New Zealand
CATEGORIES:Women's Connections
ATTACH;FMTTYPE=image/jpeg:https://nht.org.nz/wp-content/uploads/2023/09/Womens-Group-Image-File-Tile-scaled.jpg
ORGANIZER;CN="Jan Bovey":MAILTO:cdw@nht.org.nz
END:VEVENT
BEGIN:VEVENT
DTSTART;TZID=UTC:20251209T120000
DTEND;TZID=UTC:20251209T140000
DTSTAMP:20260421T194449
CREATED:20251102T221715Z
LAST-MODIFIED:20251102T221715Z
UID:3831-1765281600-1765288800@nht.org.nz
SUMMARY:Women's Connections
DESCRIPTION:
URL:https://nht.org.nz/event/womens-connections-94/
LOCATION:St Albans Baptist Church\, 64 McFaddens Road\, St Albans\, Christchurch\, Canterbury\, 8052\, New Zealand
CATEGORIES:Women's Connections
ATTACH;FMTTYPE=image/jpeg:https://nht.org.nz/wp-content/uploads/2023/09/Womens-Group-Image-File-Tile-scaled.jpg
ORGANIZER;CN="Jan Bovey":MAILTO:cdw@nht.org.nz
END:VEVENT
BEGIN:VEVENT
DTSTART;TZID=UTC:20251216T120000
DTEND;TZID=UTC:20251216T140000
DTSTAMP:20260421T194449
CREATED:20251102T221832Z
LAST-MODIFIED:20251102T221832Z
UID:3833-1765886400-1765893600@nht.org.nz
SUMMARY:Women's Connections
DESCRIPTION:
URL:https://nht.org.nz/event/womens-connections-95/
LOCATION:St Albans Baptist Church\, 64 McFaddens Road\, St Albans\, Christchurch\, Canterbury\, 8052\, New Zealand
CATEGORIES:Women's Connections
ATTACH;FMTTYPE=image/jpeg:https://nht.org.nz/wp-content/uploads/2023/09/Womens-Group-Image-File-Tile-scaled.jpg
ORGANIZER;CN="Jan Bovey":MAILTO:cdw@nht.org.nz
END:VEVENT
BEGIN:VEVENT
DTSTART;TZID=UTC:20260127T120000
DTEND;TZID=UTC:20260127T140000
DTSTAMP:20260421T194449
CREATED:20260112T210938Z
LAST-MODIFIED:20260112T210938Z
UID:3941-1769515200-1769522400@nht.org.nz
SUMMARY:Women's Connections
DESCRIPTION:
URL:https://nht.org.nz/event/womens-connections-96/
LOCATION:St Albans Baptist Church\, 64 McFaddens Road\, St Albans\, Christchurch\, Canterbury\, 8052\, New Zealand
CATEGORIES:Women's Connections
ATTACH;FMTTYPE=image/jpeg:https://nht.org.nz/wp-content/uploads/2023/09/Womens-Group-Image-File-Tile-scaled.jpg
ORGANIZER;CN="Jan Bovey":MAILTO:cdw@nht.org.nz
END:VEVENT
BEGIN:VEVENT
DTSTART;TZID=UTC:20260210T120000
DTEND;TZID=UTC:20260210T140000
DTSTAMP:20260421T194449
CREATED:20260208T213013Z
LAST-MODIFIED:20260208T213013Z
UID:3960-1770724800-1770732000@nht.org.nz
SUMMARY:Women's Connections
DESCRIPTION:
URL:https://nht.org.nz/event/womens-connections-97/
LOCATION:St Albans Baptist Church\, 64 McFaddens Road\, St Albans\, Christchurch\, Canterbury\, 8052\, New Zealand
CATEGORIES:Women's Connections
ATTACH;FMTTYPE=image/jpeg:https://nht.org.nz/wp-content/uploads/2023/09/Womens-Group-Image-File-Tile-scaled.jpg
ORGANIZER;CN="Jan Bovey":MAILTO:cdw@nht.org.nz
END:VEVENT
BEGIN:VEVENT
DTSTART;TZID=UTC:20260217T120000
DTEND;TZID=UTC:20260217T140000
DTSTAMP:20260421T194449
CREATED:20260208T213114Z
LAST-MODIFIED:20260208T213114Z
UID:3962-1771329600-1771336800@nht.org.nz
SUMMARY:Women's Connections
DESCRIPTION:
URL:https://nht.org.nz/event/womens-connections-98/
LOCATION:St Albans Baptist Church\, 64 McFaddens Road\, St Albans\, Christchurch\, Canterbury\, 8052\, New Zealand
CATEGORIES:Women's Connections
ATTACH;FMTTYPE=image/jpeg:https://nht.org.nz/wp-content/uploads/2023/09/Womens-Group-Image-File-Tile-scaled.jpg
ORGANIZER;CN="Jan Bovey":MAILTO:cdw@nht.org.nz
END:VEVENT
BEGIN:VEVENT
DTSTART;TZID=UTC:20260224T120000
DTEND;TZID=UTC:20260224T140000
DTSTAMP:20260421T194449
CREATED:20260208T213214Z
LAST-MODIFIED:20260208T213214Z
UID:3964-1771934400-1771941600@nht.org.nz
SUMMARY:Women's Connections
DESCRIPTION:
URL:https://nht.org.nz/event/womens-connections-99/
LOCATION:St Albans Baptist Church\, 64 McFaddens Road\, St Albans\, Christchurch\, Canterbury\, 8052\, New Zealand
CATEGORIES:Women's Connections
ATTACH;FMTTYPE=image/jpeg:https://nht.org.nz/wp-content/uploads/2023/09/Womens-Group-Image-File-Tile-scaled.jpg
ORGANIZER;CN="Jan Bovey":MAILTO:cdw@nht.org.nz
END:VEVENT
BEGIN:VEVENT
DTSTART;TZID=UTC:20260303T103000
DTEND;TZID=UTC:20260303T120000
DTSTAMP:20260421T194449
CREATED:20260225T215228Z
LAST-MODIFIED:20260225T215228Z
UID:4028-1772533800-1772539200@nht.org.nz
SUMMARY:Women's Connections
DESCRIPTION:
URL:https://nht.org.nz/event/womens-connections-100/
LOCATION:St Albans Baptist Church\, 64 McFaddens Road\, St Albans\, Christchurch\, Canterbury\, 8052\, New Zealand
CATEGORIES:Women's Connections
ATTACH;FMTTYPE=image/jpeg:https://nht.org.nz/wp-content/uploads/2023/09/Womens-Group-Image-File-Tile-scaled.jpg
ORGANIZER;CN="Jan Bovey":MAILTO:cdw@nht.org.nz
END:VEVENT
BEGIN:VEVENT
DTSTART;TZID=UTC:20260310T103000
DTEND;TZID=UTC:20260310T120000
DTSTAMP:20260421T194449
CREATED:20260225T215432Z
LAST-MODIFIED:20260225T215432Z
UID:4032-1773138600-1773144000@nht.org.nz
SUMMARY:Women's Connections
DESCRIPTION:
URL:https://nht.org.nz/event/womens-connections-101/
LOCATION:St Albans Baptist Church\, 64 McFaddens Road\, St Albans\, Christchurch\, Canterbury\, 8052\, New Zealand
CATEGORIES:Women's Connections
ATTACH;FMTTYPE=image/jpeg:https://nht.org.nz/wp-content/uploads/2023/09/Womens-Group-Image-File-Tile-scaled.jpg
ORGANIZER;CN="Jan Bovey":MAILTO:cdw@nht.org.nz
END:VEVENT
BEGIN:VEVENT
DTSTART;TZID=UTC:20260317T103000
DTEND;TZID=UTC:20260317T120000
DTSTAMP:20260421T194449
CREATED:20260225T215547Z
LAST-MODIFIED:20260225T215547Z
UID:4034-1773743400-1773748800@nht.org.nz
SUMMARY:Women's Connections
DESCRIPTION:
URL:https://nht.org.nz/event/womens-connections-102/
LOCATION:St Albans Baptist Church\, 64 McFaddens Road\, St Albans\, Christchurch\, Canterbury\, 8052\, New Zealand
CATEGORIES:Women's Connections
ATTACH;FMTTYPE=image/jpeg:https://nht.org.nz/wp-content/uploads/2023/09/Womens-Group-Image-File-Tile-scaled.jpg
ORGANIZER;CN="Jan Bovey":MAILTO:cdw@nht.org.nz
END:VEVENT
BEGIN:VEVENT
DTSTART;TZID=UTC:20260407T103000
DTEND;TZID=UTC:20260407T120000
DTSTAMP:20260421T194449
CREATED:20260329T234640Z
LAST-MODIFIED:20260329T234640Z
UID:4078-1775557800-1775563200@nht.org.nz
SUMMARY:Women's Connections
DESCRIPTION:
URL:https://nht.org.nz/event/womens-connections-103/
LOCATION:St Albans Baptist Church\, 64 McFaddens Road\, St Albans\, Christchurch\, Canterbury\, 8052\, New Zealand
CATEGORIES:Women's Connections
ATTACH;FMTTYPE=image/jpeg:https://nht.org.nz/wp-content/uploads/2023/09/Womens-Group-Image-File-Tile-scaled.jpg
ORGANIZER;CN="Jan Bovey":MAILTO:cdw@nht.org.nz
END:VEVENT
BEGIN:VEVENT
DTSTART;TZID=UTC:20260414T103000
DTEND;TZID=UTC:20260414T120000
DTSTAMP:20260421T194449
CREATED:20260329T234740Z
LAST-MODIFIED:20260329T234740Z
UID:4080-1776162600-1776168000@nht.org.nz
SUMMARY:Women's Connections
DESCRIPTION:
URL:https://nht.org.nz/event/womens-connections-104/
LOCATION:St Albans Baptist Church\, 64 McFaddens Road\, St Albans\, Christchurch\, Canterbury\, 8052\, New Zealand
CATEGORIES:Women's Connections
ATTACH;FMTTYPE=image/jpeg:https://nht.org.nz/wp-content/uploads/2023/09/Womens-Group-Image-File-Tile-scaled.jpg
ORGANIZER;CN="Jan Bovey":MAILTO:cdw@nht.org.nz
END:VEVENT
BEGIN:VEVENT
DTSTART;TZID=UTC:20260421T103000
DTEND;TZID=UTC:20260421T120000
DTSTAMP:20260421T194449
CREATED:20260329T234853Z
LAST-MODIFIED:20260329T234853Z
UID:4082-1776767400-1776772800@nht.org.nz
SUMMARY:Women's Connections
DESCRIPTION:
URL:https://nht.org.nz/event/womens-connections-105/
LOCATION:St Albans Baptist Church\, 64 McFaddens Road\, St Albans\, Christchurch\, Canterbury\, 8052\, New Zealand
CATEGORIES:Women's Connections
ATTACH;FMTTYPE=image/jpeg:https://nht.org.nz/wp-content/uploads/2023/09/Womens-Group-Image-File-Tile-scaled.jpg
ORGANIZER;CN="Jan Bovey":MAILTO:cdw@nht.org.nz
END:VEVENT
BEGIN:VEVENT
DTSTART;TZID=UTC:20260428T103000
DTEND;TZID=UTC:20260428T120000
DTSTAMP:20260421T194449
CREATED:20260329T235009Z
LAST-MODIFIED:20260329T235009Z
UID:4084-1777372200-1777377600@nht.org.nz
SUMMARY:Women's Connections
DESCRIPTION:
URL:https://nht.org.nz/event/womens-connections-106/
LOCATION:St Albans Baptist Church\, 64 McFaddens Road\, St Albans\, Christchurch\, Canterbury\, 8052\, New Zealand
CATEGORIES:Women's Connections
ATTACH;FMTTYPE=image/jpeg:https://nht.org.nz/wp-content/uploads/2023/09/Womens-Group-Image-File-Tile-scaled.jpg
ORGANIZER;CN="Jan Bovey":MAILTO:cdw@nht.org.nz
END:VEVENT
END:VCALENDAR