BEGIN:VCALENDAR
VERSION:2.0
PRODID:-//Neighbourhood Trust - ECPv6.3.3.1//NONSGML v1.0//EN
CALSCALE:GREGORIAN
METHOD:PUBLISH
X-ORIGINAL-URL:https://nht.org.nz
X-WR-CALDESC:Events for Neighbourhood Trust
REFRESH-INTERVAL;VALUE=DURATION:PT1H
X-Robots-Tag:noindex
X-PUBLISHED-TTL:PT1H
BEGIN:VTIMEZONE
TZID:UTC
BEGIN:STANDARD
TZOFFSETFROM:+0000
TZOFFSETTO:+0000
TZNAME:UTC
DTSTART:20250101T000000
END:STANDARD
END:VTIMEZONE
BEGIN:VEVENT
DTSTART;TZID=UTC:20250603T120000
DTEND;TZID=UTC:20250603T140000
DTSTAMP:20260421T161926
CREATED:20250525T231557Z
LAST-MODIFIED:20250525T231557Z
UID:3547-1748952000-1748959200@nht.org.nz
SUMMARY:Women's Connections
DESCRIPTION:
URL:https://nht.org.nz/event/womens-connections-15/
LOCATION:Whanau Center\, 49 Nancy Avenue\, Christchurch\, New Zealand
CATEGORIES:Women's Connections
ATTACH;FMTTYPE=image/jpeg:https://nht.org.nz/wp-content/uploads/2023/09/Womens-Group-Image-File-Tile-scaled.jpg
ORGANIZER;CN="Jan Bovey":MAILTO:cdw@nht.org.nz
END:VEVENT
BEGIN:VEVENT
DTSTART;TZID=UTC:20250610T120000
DTEND;TZID=UTC:20250610T140000
DTSTAMP:20260421T161926
CREATED:20250525T233235Z
LAST-MODIFIED:20250525T233235Z
UID:3549-1749556800-1749564000@nht.org.nz
SUMMARY:Women's Connections
DESCRIPTION:
URL:https://nht.org.nz/event/womens-connections-68/
LOCATION:Whanau Center\, 49 Nancy Avenue\, Christchurch\, New Zealand
CATEGORIES:Women's Connections
ATTACH;FMTTYPE=image/jpeg:https://nht.org.nz/wp-content/uploads/2023/09/Womens-Group-Image-File-Tile-scaled.jpg
ORGANIZER;CN="Jan Bovey":MAILTO:cdw@nht.org.nz
END:VEVENT
BEGIN:VEVENT
DTSTART;TZID=UTC:20250613T130000
DTEND;TZID=UTC:20250613T143000
DTSTAMP:20260421T161926
CREATED:20250525T235052Z
LAST-MODIFIED:20250525T235052Z
UID:3558-1749819600-1749825000@nht.org.nz
SUMMARY:Strength & Balance
DESCRIPTION:
URL:https://nht.org.nz/event/strength-balance-32/
LOCATION:St Albans Baptist Church\, 64 McFaddens Road\, St Albans\, Christchurch\, Canterbury\, 8052\, New Zealand
CATEGORIES:Women's Connections
ATTACH;FMTTYPE=image/jpeg:https://nht.org.nz/wp-content/uploads/2022/08/Golden-Events-Strength-Bal-Image-File-Tile-scaled.jpg
ORGANIZER;CN="Golden Connections Event":MAILTO:golden@nht.org.nz
END:VEVENT
BEGIN:VEVENT
DTSTART;TZID=UTC:20250617T120000
DTEND;TZID=UTC:20250617T140000
DTSTAMP:20260421T161926
CREATED:20250525T233416Z
LAST-MODIFIED:20250525T233416Z
UID:3551-1750161600-1750168800@nht.org.nz
SUMMARY:Women's Connections
DESCRIPTION:
URL:https://nht.org.nz/event/womens-connections-69/
LOCATION:Whanau Center\, 49 Nancy Avenue\, Christchurch\, New Zealand
CATEGORIES:Women's Connections
ATTACH;FMTTYPE=image/jpeg:https://nht.org.nz/wp-content/uploads/2023/09/Womens-Group-Image-File-Tile-scaled.jpg
ORGANIZER;CN="Jan Bovey":MAILTO:cdw@nht.org.nz
END:VEVENT
BEGIN:VEVENT
DTSTART;TZID=UTC:20250624T120000
DTEND;TZID=UTC:20250624T140000
DTSTAMP:20260421T161926
CREATED:20250525T233632Z
LAST-MODIFIED:20250525T233632Z
UID:3553-1750766400-1750773600@nht.org.nz
SUMMARY:Women's Connections
DESCRIPTION:
URL:https://nht.org.nz/event/womens-connections-70/
LOCATION:Whanau Center\, 49 Nancy Avenue\, Christchurch\, New Zealand
CATEGORIES:Women's Connections
ATTACH;FMTTYPE=image/jpeg:https://nht.org.nz/wp-content/uploads/2023/09/Womens-Group-Image-File-Tile-scaled.jpg
ORGANIZER;CN="Jan Bovey":MAILTO:cdw@nht.org.nz
END:VEVENT
END:VCALENDAR