BEGIN:VCALENDAR
VERSION:2.0
PRODID:-//Neighbourhood Trust - ECPv6.3.3.1//NONSGML v1.0//EN
CALSCALE:GREGORIAN
METHOD:PUBLISH
X-ORIGINAL-URL:https://nht.org.nz
X-WR-CALDESC:Events for Neighbourhood Trust
REFRESH-INTERVAL;VALUE=DURATION:PT1H
X-Robots-Tag:noindex
X-PUBLISHED-TTL:PT1H
BEGIN:VTIMEZONE
TZID:UTC
BEGIN:STANDARD
TZOFFSETFROM:+0000
TZOFFSETTO:+0000
TZNAME:UTC
DTSTART:20250101T000000
END:STANDARD
END:VTIMEZONE
BEGIN:VEVENT
DTSTART;TZID=UTC:20250923T120000
DTEND;TZID=UTC:20250923T140000
DTSTAMP:20260419T134337
CREATED:20250824T230659Z
LAST-MODIFIED:20250824T230659Z
UID:3707-1758628800-1758636000@nht.org.nz
SUMMARY:Women's Connections
DESCRIPTION:
URL:https://nht.org.nz/event/womens-connections-83/
LOCATION:Whanau Center\, 49 Nancy Avenue\, Christchurch\, New Zealand
CATEGORIES:Women's Connections
ATTACH;FMTTYPE=image/jpeg:https://nht.org.nz/wp-content/uploads/2023/09/Womens-Group-Image-File-Tile-scaled.jpg
ORGANIZER;CN="Jan Bovey":MAILTO:cdw@nht.org.nz
END:VEVENT
BEGIN:VEVENT
DTSTART;TZID=UTC:20250923T185000
DTEND;TZID=UTC:20250923T203000
DTSTAMP:20260419T134337
CREATED:20250824T232009Z
LAST-MODIFIED:20250824T232009Z
UID:3721-1758653400-1758659400@nht.org.nz
SUMMARY:CAP Money Course
DESCRIPTION:
URL:https://nht.org.nz/event/cap-money-course-12/
LOCATION:Whanau Center\, 49 Nancy Avenue\, Christchurch\, New Zealand
CATEGORIES:CAP
ATTACH;FMTTYPE=image/jpeg:https://nht.org.nz/wp-content/uploads/2025/06/Budgeting-Finance-Image-Tile-scaled.jpg
ORGANIZER;CN="Jan Bovey":MAILTO:cdw@nht.org.nz
END:VEVENT
END:VCALENDAR