BEGIN:VCALENDAR
VERSION:2.0
PRODID:-//Neighbourhood Trust - ECPv6.3.3.1//NONSGML v1.0//EN
CALSCALE:GREGORIAN
METHOD:PUBLISH
X-ORIGINAL-URL:https://nht.org.nz
X-WR-CALDESC:Events for Neighbourhood Trust
REFRESH-INTERVAL;VALUE=DURATION:PT1H
X-Robots-Tag:noindex
X-PUBLISHED-TTL:PT1H
BEGIN:VTIMEZONE
TZID:UTC
BEGIN:STANDARD
TZOFFSETFROM:+0000
TZOFFSETTO:+0000
TZNAME:UTC
DTSTART:20250101T000000
END:STANDARD
END:VTIMEZONE
BEGIN:VEVENT
DTSTART;TZID=UTC:20250916T120000
DTEND;TZID=UTC:20250916T140000
DTSTAMP:20260419T134905
CREATED:20250824T230529Z
LAST-MODIFIED:20250824T230529Z
UID:3705-1758024000-1758031200@nht.org.nz
SUMMARY:Women's Connections
DESCRIPTION:
URL:https://nht.org.nz/event/womens-connections-82/
LOCATION:Whanau Center\, 49 Nancy Avenue\, Christchurch\, New Zealand
CATEGORIES:Women's Connections
ATTACH;FMTTYPE=image/jpeg:https://nht.org.nz/wp-content/uploads/2023/09/Womens-Group-Image-File-Tile-scaled.jpg
ORGANIZER;CN="Jan Bovey":MAILTO:cdw@nht.org.nz
END:VEVENT
BEGIN:VEVENT
DTSTART;TZID=UTC:20250916T133000
DTEND;TZID=UTC:20250916T143000
DTSTAMP:20260419T134905
CREATED:20250824T232950Z
LAST-MODIFIED:20250824T232950Z
UID:3731-1758029400-1758033000@nht.org.nz
SUMMARY:Garden Workshop: Lasagna Layering Garden Bed
DESCRIPTION:
URL:https://nht.org.nz/event/garden-workshop-lasagna-layering-garden-bed/
LOCATION:St Albans Baptist Church\, 64 McFaddens Road\, St Albans\, Christchurch\, Canterbury\, 8052\, New Zealand
CATEGORIES:Mairehau Neighbourhood Garden
ATTACH;FMTTYPE=image/jpeg:https://nht.org.nz/wp-content/uploads/2022/09/MNG-Work-Day-Image-File-Tile-2-scaled.jpg
ORGANIZER;CN="Don Benn Community Worker":MAILTO:community@nht.org.nz
END:VEVENT
BEGIN:VEVENT
DTSTART;TZID=UTC:20250916T185000
DTEND;TZID=UTC:20250916T203000
DTSTAMP:20260419T134905
CREATED:20250824T231849Z
LAST-MODIFIED:20250824T231849Z
UID:3719-1758048600-1758054600@nht.org.nz
SUMMARY:CAP Money Course
DESCRIPTION:
URL:https://nht.org.nz/event/cap-money-course-11/
LOCATION:Whanau Center\, 49 Nancy Avenue\, Christchurch\, New Zealand
CATEGORIES:CAP
ATTACH;FMTTYPE=image/jpeg:https://nht.org.nz/wp-content/uploads/2025/06/Budgeting-Finance-Image-Tile-scaled.jpg
ORGANIZER;CN="Jan Bovey":MAILTO:cdw@nht.org.nz
END:VEVENT
END:VCALENDAR