BEGIN:VCALENDAR
VERSION:2.0
PRODID:-//Neighbourhood Trust - ECPv6.3.3.1//NONSGML v1.0//EN
CALSCALE:GREGORIAN
METHOD:PUBLISH
X-ORIGINAL-URL:https://nht.org.nz
X-WR-CALDESC:Events for Neighbourhood Trust
REFRESH-INTERVAL;VALUE=DURATION:PT1H
X-Robots-Tag:noindex
X-PUBLISHED-TTL:PT1H
BEGIN:VTIMEZONE
TZID:UTC
BEGIN:STANDARD
TZOFFSETFROM:+0000
TZOFFSETTO:+0000
TZNAME:UTC
DTSTART:20250101T000000
END:STANDARD
END:VTIMEZONE
BEGIN:VEVENT
DTSTART;TZID=UTC:20250609T130000
DTEND;TZID=UTC:20250609T143000
DTSTAMP:20260419T182705
CREATED:20250525T230430Z
LAST-MODIFIED:20250525T230430Z
UID:3541-1749474000-1749479400@nht.org.nz
SUMMARY:Golden Quiz
DESCRIPTION:
URL:https://nht.org.nz/event/golden-quiz-5/
LOCATION:St Albans Baptist Church\, 64 McFaddens Road\, St Albans\, Christchurch\, Canterbury\, 8052\, New Zealand
CATEGORIES:Golden
ATTACH;FMTTYPE=image/jpeg:https://nht.org.nz/wp-content/uploads/2022/08/Golden-Events-Image-File-Tile-bottom-text-scaled.jpg
ORGANIZER;CN="Golden Connections Event":MAILTO:golden@nht.org.nz
END:VEVENT
BEGIN:VEVENT
DTSTART;TZID=UTC:20250609T190000
DTEND;TZID=UTC:20250609T203000
DTSTAMP:20260419T182705
CREATED:20250417T013318Z
LAST-MODIFIED:20250417T013318Z
UID:3491-1749495600-1749501000@nht.org.nz
SUMMARY:Tuning Into Kids
DESCRIPTION:
URL:https://nht.org.nz/event/tuning-into-kids-12/
LOCATION:St Albans Baptist Church\, 64 McFaddens Road\, St Albans\, Christchurch\, Canterbury\, 8052\, New Zealand
CATEGORIES:Tuning Into Kids
ATTACH;FMTTYPE=image/png:https://nht.org.nz/wp-content/uploads/2025/02/TIK-Image-File.png
ORGANIZER;CN="Jan Bovey":MAILTO:cdw@nht.org.nz
END:VEVENT
END:VCALENDAR