BEGIN:VCALENDAR
VERSION:2.0
PRODID:-//Neighbourhood Trust - ECPv6.3.3.1//NONSGML v1.0//EN
CALSCALE:GREGORIAN
METHOD:PUBLISH
X-ORIGINAL-URL:https://nht.org.nz
X-WR-CALDESC:Events for Neighbourhood Trust
REFRESH-INTERVAL;VALUE=DURATION:PT1H
X-Robots-Tag:noindex
X-PUBLISHED-TTL:PT1H
BEGIN:VTIMEZONE
TZID:UTC
BEGIN:STANDARD
TZOFFSETFROM:+0000
TZOFFSETTO:+0000
TZNAME:UTC
DTSTART:20250101T000000
END:STANDARD
END:VTIMEZONE
BEGIN:VEVENT
DTSTART;TZID=UTC:20250211T120000
DTEND;TZID=UTC:20250211T140000
DTSTAMP:20260420T004024
CREATED:20250124T024905Z
LAST-MODIFIED:20250124T024905Z
UID:3322-1739275200-1739282400@nht.org.nz
SUMMARY:Women's Connections
DESCRIPTION:
URL:https://nht.org.nz/event/womens-connections-65/
LOCATION:Whanau Center\, 49 Nancy Avenue\, Christchurch\, New Zealand
CATEGORIES:Women's Connections
ATTACH;FMTTYPE=image/jpeg:https://nht.org.nz/wp-content/uploads/2023/09/Womens-Group-Image-File-Tile-scaled.jpg
ORGANIZER;CN="Jan Bovey":MAILTO:cdw@nht.org.nz
END:VEVENT
END:VCALENDAR