BEGIN:VCALENDAR
VERSION:2.0
PRODID:-//Neighbourhood Trust - ECPv6.3.3.1//NONSGML v1.0//EN
CALSCALE:GREGORIAN
METHOD:PUBLISH
X-ORIGINAL-URL:https://nht.org.nz
X-WR-CALDESC:Events for Neighbourhood Trust
REFRESH-INTERVAL;VALUE=DURATION:PT1H
X-Robots-Tag:noindex
X-PUBLISHED-TTL:PT1H
BEGIN:VTIMEZONE
TZID:UTC
BEGIN:STANDARD
TZOFFSETFROM:+0000
TZOFFSETTO:+0000
TZNAME:UTC
DTSTART:20240101T000000
END:STANDARD
END:VTIMEZONE
BEGIN:VEVENT
DTSTART;TZID=UTC:20241111T130000
DTEND;TZID=UTC:20241111T150000
DTSTAMP:20260420T053345
CREATED:20241023T215948Z
LAST-MODIFIED:20241023T215948Z
UID:3179-1731330000-1731337200@nht.org.nz
SUMMARY:Golden Quiz
DESCRIPTION:
URL:https://nht.org.nz/event/golden-quiz/
LOCATION:St Albans Baptist Church\, 64 McFaddens Road\, St Albans\, Christchurch\, Canterbury\, 8052\, New Zealand
CATEGORIES:Golden
ATTACH;FMTTYPE=image/jpeg:https://nht.org.nz/wp-content/uploads/2022/08/Golden-Events-Image-File-Tile-bottom-text-scaled.jpg
ORGANIZER;CN="Golden Connections Event":MAILTO:golden@nht.org.nz
END:VEVENT
BEGIN:VEVENT
DTSTART;TZID=UTC:20241111T190000
DTEND;TZID=UTC:20241111T203000
DTSTAMP:20260420T053345
CREATED:20240926T020510Z
LAST-MODIFIED:20241002T000528Z
UID:3150-1731351600-1731357000@nht.org.nz
SUMMARY:Mindful Gaming by Victoria Holden
DESCRIPTION:
URL:https://nht.org.nz/event/mindful-gaming-by-victoria-holden/
LOCATION:St Albans Baptist Church\, 64 McFaddens Road\, St Albans\, Christchurch\, Canterbury\, 8052\, New Zealand
CATEGORIES:Community Events
END:VEVENT
END:VCALENDAR